BEGIN:VCALENDAR
VERSION:2.0
PRODID:-//ANAホリデイ・イン札幌すすきの - ECPv4.2.3//NONSGML v1.0//EN
CALSCALE:GREGORIAN
METHOD:PUBLISH
X-WR-CALNAME:ANAホリデイ・イン札幌すすきの
X-ORIGINAL-URL:https://www.anahisapporosusukino.com
X-WR-CALDESC:Events for ANAホリデイ・イン札幌すすきの
BEGIN:VEVENT
DTSTART;TZID=Asia/Tokyo:20250712T080000
DTEND;TZID=Asia/Tokyo:20250712T170000
DTSTAMP:20260422T112204
CREATED:20250705T030014
LAST-MODIFIED:20250705T030014
UID:8804-1752307200-1752339600@www.anahisapporosusukino.com
SUMMARY:大海老と茄子の天ぷら
DESCRIPTION:
URL:https://www.anahisapporosusukino.com/event/%e5%a4%a7%e6%b5%b7%e8%80%81%e3%81%a8%e8%8c%84%e5%ad%90%e3%81%ae%e5%a4%a9%e3%81%b7%e3%82%89-17/
END:VEVENT
END:VCALENDAR