BEGIN:VCALENDAR
VERSION:2.0
PRODID:-//ANAホリデイ・イン札幌すすきの - ECPv4.2.3//NONSGML v1.0//EN
CALSCALE:GREGORIAN
METHOD:PUBLISH
X-WR-CALNAME:ANAホリデイ・イン札幌すすきの
X-ORIGINAL-URL:https://www.anahisapporosusukino.com
X-WR-CALDESC:Events for ANAホリデイ・イン札幌すすきの
BEGIN:VEVENT
DTSTART;TZID=Asia/Tokyo:20250610T080000
DTEND;TZID=Asia/Tokyo:20250610T170000
DTSTAMP:20260422T192601
CREATED:20250530T000409
LAST-MODIFIED:20250530T000409
UID:8763-1749542400-1749574800@www.anahisapporosusukino.com
SUMMARY:牛肉のサイコロステーキ
DESCRIPTION:
URL:https://www.anahisapporosusukino.com/event/%e7%89%9b%e8%82%89%e3%81%ae%e3%82%b5%e3%82%a4%e3%82%b3%e3%83%ad%e3%82%b9%e3%83%86%e3%83%bc%e3%82%ad/
END:VEVENT
END:VCALENDAR