BEGIN:VCALENDAR
VERSION:2.0
PRODID:-//ANAホリデイ・イン札幌すすきの - ECPv4.2.3//NONSGML v1.0//EN
CALSCALE:GREGORIAN
METHOD:PUBLISH
X-WR-CALNAME:ANAホリデイ・イン札幌すすきの
X-ORIGINAL-URL:https://www.anahisapporosusukino.com
X-WR-CALDESC:Events for ANAホリデイ・イン札幌すすきの
BEGIN:VEVENT
DTSTART;TZID=Asia/Tokyo:20250608T080000
DTEND;TZID=Asia/Tokyo:20250608T170000
DTSTAMP:20260422T154842
CREATED:20250530T000148
LAST-MODIFIED:20250530T000148
UID:8761-1749369600-1749402000@www.anahisapporosusukino.com
SUMMARY:大エビ天丼
DESCRIPTION:
URL:https://www.anahisapporosusukino.com/event/%e5%a4%a7%e3%82%a8%e3%83%93%e5%a4%a9%e4%b8%bc-18/
END:VEVENT
END:VCALENDAR