BEGIN:VCALENDAR
VERSION:2.0
PRODID:-//ANAホリデイ・イン札幌すすきの - ECPv4.2.3//NONSGML v1.0//EN
CALSCALE:GREGORIAN
METHOD:PUBLISH
X-WR-CALNAME:ANAホリデイ・イン札幌すすきの
X-ORIGINAL-URL:https://www.anahisapporosusukino.com
X-WR-CALDESC:Events for ANAホリデイ・イン札幌すすきの
BEGIN:VEVENT
DTSTART;TZID=Asia/Tokyo:20250605T080000
DTEND;TZID=Asia/Tokyo:20250605T170000
DTSTAMP:20260422T105227
CREATED:20250529T235835
LAST-MODIFIED:20250529T235925
UID:8758-1749110400-1749142800@www.anahisapporosusukino.com
SUMMARY:NEW中華風茶碗蒸し蟹あんかけ
DESCRIPTION:
URL:https://www.anahisapporosusukino.com/event/new%e4%b8%ad%e8%8f%af%e9%a2%a8%e8%8c%b6%e7%a2%97%e8%92%b8%e3%81%97%e8%9f%b9%e3%81%82%e3%82%93%e3%81%8b%e3%81%91/
CATEGORIES:ポイント2倍,新メニュー
END:VEVENT
END:VCALENDAR