BEGIN:VCALENDAR
VERSION:2.0
PRODID:-//ANAホリデイ・イン札幌すすきの - ECPv4.2.3//NONSGML v1.0//EN
CALSCALE:GREGORIAN
METHOD:PUBLISH
X-WR-CALNAME:ANAホリデイ・イン札幌すすきの
X-ORIGINAL-URL:https://www.anahisapporosusukino.com
X-WR-CALDESC:Events for ANAホリデイ・イン札幌すすきの
BEGIN:VEVENT
DTSTART;TZID=Asia/Tokyo:20241003T080000
DTEND;TZID=Asia/Tokyo:20241003T170000
DTSTAMP:20260423T041414
CREATED:20240925T213715
LAST-MODIFIED:20240925T213715
UID:8350-1727942400-1727974800@www.anahisapporosusukino.com
SUMMARY:NEW牛ホホ肉の赤ワイン煮込み
DESCRIPTION:
URL:https://www.anahisapporosusukino.com/event/new%e7%89%9b%e3%83%9b%e3%83%9b%e8%82%89%e3%81%ae%e8%b5%a4%e3%83%af%e3%82%a4%e3%83%b3%e7%85%ae%e8%be%bc%e3%81%bf/
CATEGORIES:メンズDay,新メニュー
END:VEVENT
END:VCALENDAR