BEGIN:VCALENDAR
VERSION:2.0
PRODID:-//ANAホリデイ・イン札幌すすきの - ECPv4.2.3//NONSGML v1.0//EN
CALSCALE:GREGORIAN
METHOD:PUBLISH
X-WR-CALNAME:ANAホリデイ・イン札幌すすきの
X-ORIGINAL-URL:https://www.anahisapporosusukino.com
X-WR-CALDESC:Events for ANAホリデイ・イン札幌すすきの
BEGIN:VEVENT
DTSTART;TZID=Asia/Tokyo:20240330T080000
DTEND;TZID=Asia/Tokyo:20240330T170000
DTSTAMP:20260425T162021
CREATED:20240220T234316
LAST-MODIFIED:20240220T234316
UID:7979-1711785600-1711818000@www.anahisapporosusukino.com
SUMMARY:サーモンとアボガドのユッケ丼
DESCRIPTION:
URL:https://www.anahisapporosusukino.com/event/%e3%82%b5%e3%83%bc%e3%83%a2%e3%83%b3%e3%81%a8%e3%82%a2%e3%83%9c%e3%82%ac%e3%83%89%e3%81%ae%e3%83%a6%e3%83%83%e3%82%b1%e4%b8%bc-9/
ATTACH;FMTTYPE=image/jpeg:https://anahisapporosusukino.com/images/2023/06/サーモンとアボガド-1.jpg
END:VEVENT
END:VCALENDAR