BEGIN:VCALENDAR
VERSION:2.0
PRODID:-//ANAホリデイ・イン札幌すすきの - ECPv4.2.3//NONSGML v1.0//EN
CALSCALE:GREGORIAN
METHOD:PUBLISH
X-WR-CALNAME:ANAホリデイ・イン札幌すすきの
X-ORIGINAL-URL:https://www.anahisapporosusukino.com
X-WR-CALDESC:Events for ANAホリデイ・イン札幌すすきの
BEGIN:VEVENT
DTSTART;TZID=Asia/Tokyo:20240329T080000
DTEND;TZID=Asia/Tokyo:20240329T170000
DTSTAMP:20260425T175514
CREATED:20240220T234149
LAST-MODIFIED:20240220T234149
UID:7978-1711699200-1711731600@www.anahisapporosusukino.com
SUMMARY:NEW道産帆立のポワレマスタードソース
DESCRIPTION:
URL:https://www.anahisapporosusukino.com/event/new%e9%81%93%e7%94%a3%e5%b8%86%e7%ab%8b%e3%81%ae%e3%83%9d%e3%83%af%e3%83%ac%e3%83%9e%e3%82%b9%e3%82%bf%e3%83%bc%e3%83%89%e3%82%bd%e3%83%bc%e3%82%b9/
CATEGORIES:新メニュー
END:VEVENT
END:VCALENDAR