BEGIN:VCALENDAR
VERSION:2.0
PRODID:-//ANAホリデイ・イン札幌すすきの - ECPv4.2.3//NONSGML v1.0//EN
CALSCALE:GREGORIAN
METHOD:PUBLISH
X-WR-CALNAME:ANAホリデイ・イン札幌すすきの
X-ORIGINAL-URL:https://www.anahisapporosusukino.com
X-WR-CALDESC:Events for ANAホリデイ・イン札幌すすきの
BEGIN:VEVENT
DTSTART;TZID=Asia/Tokyo:20260215T080000
DTEND;TZID=Asia/Tokyo:20260215T170000
DTSTAMP:20260424T083214
CREATED:20260125T044829
LAST-MODIFIED:20260125T044829
UID:9203-1771142400-1771174800@www.anahisapporosusukino.com
SUMMARY:Verdeのサムギョプサル
DESCRIPTION:
URL:https://www.anahisapporosusukino.com/event/verde%e3%81%ae%e3%82%b5%e3%83%a0%e3%82%ae%e3%83%a7%e3%83%97%e3%82%b5%e3%83%ab-6/
ATTACH;FMTTYPE=image/jpeg:https://anahisapporosusukino.com/images/2021/09/厚切りポークのサムギョプサル.jpg
END:VEVENT
END:VCALENDAR