BEGIN:VCALENDAR
VERSION:2.0
PRODID:-//ANAホリデイ・イン札幌すすきの - ECPv4.2.3//NONSGML v1.0//EN
CALSCALE:GREGORIAN
METHOD:PUBLISH
X-WR-CALNAME:ANAホリデイ・イン札幌すすきの
X-ORIGINAL-URL:https://www.anahisapporosusukino.com
X-WR-CALDESC:Events for ANAホリデイ・イン札幌すすきの
BEGIN:VEVENT
DTSTART;TZID=Asia/Tokyo:20241130T080000
DTEND;TZID=Asia/Tokyo:20241130T170000
DTSTAMP:20260426T014451
CREATED:20241027T055954
LAST-MODIFIED:20241027T055954
UID:8429-1732953600-1732986000@www.anahisapporosusukino.com
SUMMARY:NEW道産牛のカツレツデミグラスソース
DESCRIPTION:
URL:https://www.anahisapporosusukino.com/event/new%e9%81%93%e7%94%a3%e7%89%9b%e3%81%ae%e3%82%ab%e3%83%84%e3%83%ac%e3%83%84%e3%83%87%e3%83%9f%e3%82%b0%e3%83%a9%e3%82%b9%e3%82%bd%e3%83%bc%e3%82%b9/
CATEGORIES:新メニュー
END:VEVENT
END:VCALENDAR