BEGIN:VCALENDAR
VERSION:2.0
PRODID:-//ANAホリデイ・イン札幌すすきの - ECPv4.2.3//NONSGML v1.0//EN
CALSCALE:GREGORIAN
METHOD:PUBLISH
X-WR-CALNAME:ANAホリデイ・イン札幌すすきの
X-ORIGINAL-URL:https://www.anahisapporosusukino.com
X-WR-CALDESC:Events for ANAホリデイ・イン札幌すすきの
BEGIN:VEVENT
DTSTART;TZID=Asia/Tokyo:20240316T080000
DTEND;TZID=Asia/Tokyo:20240316T170000
DTSTAMP:20260426T033748
CREATED:20240220T231441
LAST-MODIFIED:20240220T231441
UID:7964-1710576000-1710608400@www.anahisapporosusukino.com
SUMMARY:NEW道産ローストポーク黒胡椒ソース
DESCRIPTION:
URL:https://www.anahisapporosusukino.com/event/new%e9%81%93%e7%94%a3%e3%83%ad%e3%83%bc%e3%82%b9%e3%83%88%e3%83%9d%e3%83%bc%e3%82%af%e9%bb%92%e8%83%a1%e6%a4%92%e3%82%bd%e3%83%bc%e3%82%b9/
CATEGORIES:新メニュー
END:VEVENT
END:VCALENDAR