BEGIN:VCALENDAR
VERSION:2.0
PRODID:-//ANAホリデイ・イン札幌すすきの - ECPv4.2.3//NONSGML v1.0//EN
CALSCALE:GREGORIAN
METHOD:PUBLISH
X-WR-CALNAME:ANAホリデイ・イン札幌すすきの
X-ORIGINAL-URL:https://www.anahisapporosusukino.com
X-WR-CALDESC:Events for ANAホリデイ・イン札幌すすきの
BEGIN:VEVENT
DTSTART;TZID=Asia/Tokyo:20241018T080000
DTEND;TZID=Asia/Tokyo:20241018T170000
DTSTAMP:20260426T011855
CREATED:20240925T215357
LAST-MODIFIED:20240925T215357
UID:8365-1729238400-1729270800@www.anahisapporosusukino.com
SUMMARY:NEW若鶏のグリル和風仕立て栗ご飯添え
DESCRIPTION:
URL:https://www.anahisapporosusukino.com/event/new%e8%8b%a5%e9%b6%8f%e3%81%ae%e3%82%b0%e3%83%aa%e3%83%ab%e5%92%8c%e9%a2%a8%e4%bb%95%e7%ab%8b%e3%81%a6%e6%a0%97%e3%81%94%e9%a3%af%e6%b7%bb%e3%81%88/
CATEGORIES:ポイント2倍,新メニュー
END:VEVENT
END:VCALENDAR