BEGIN:VCALENDAR
VERSION:2.0
PRODID:-//ANAホリデイ・イン札幌すすきの - ECPv4.2.3//NONSGML v1.0//EN
CALSCALE:GREGORIAN
METHOD:PUBLISH
X-WR-CALNAME:ANAホリデイ・イン札幌すすきの
X-ORIGINAL-URL:https://www.anahisapporosusukino.com
X-WR-CALDESC:Events for ANAホリデイ・イン札幌すすきの
BEGIN:VEVENT
DTSTART;TZID=Asia/Tokyo:20260119T080000
DTEND;TZID=Asia/Tokyo:20260119T170000
DTSTAMP:20260422T120445
CREATED:20251227T114244
LAST-MODIFIED:20251227T114244
UID:9145-1768809600-1768842000@www.anahisapporosusukino.com
SUMMARY:道産牛の特製ロースト
DESCRIPTION:
URL:https://www.anahisapporosusukino.com/event/%e9%81%93%e7%94%a3%e7%89%9b%e3%81%ae%e7%89%b9%e8%a3%bd%e3%83%ad%e3%83%bc%e3%82%b9%e3%83%88-5/
CATEGORIES:ポイント2倍
END:VEVENT
END:VCALENDAR