BEGIN:VCALENDAR
VERSION:2.0
PRODID:-//ANAホリデイ・イン札幌すすきの - ECPv4.2.3//NONSGML v1.0//EN
CALSCALE:GREGORIAN
METHOD:PUBLISH
X-WR-CALNAME:ANAホリデイ・イン札幌すすきの
X-ORIGINAL-URL:https://www.anahisapporosusukino.com
X-WR-CALDESC:Events for ANAホリデイ・イン札幌すすきの
BEGIN:VEVENT
DTSTART;TZID=Asia/Tokyo:20260130T080000
DTEND;TZID=Asia/Tokyo:20260130T170000
DTSTAMP:20260423T074745
CREATED:20251226T084215
LAST-MODIFIED:20251226T084215
UID:9119-1769760000-1769792400@www.anahisapporosusukino.com
SUMMARY:自家製ロースハム季節のサラダ添え
DESCRIPTION:
URL:https://www.anahisapporosusukino.com/event/%e8%87%aa%e5%ae%b6%e8%a3%bd%e3%83%ad%e3%83%bc%e3%82%b9%e3%83%8f%e3%83%a0%e5%ad%a3%e7%af%80%e3%81%ae%e3%82%b5%e3%83%a9%e3%83%80%e6%b7%bb%e3%81%88/
CATEGORIES:新メニュー
END:VEVENT
END:VCALENDAR