BEGIN:VCALENDAR
VERSION:2.0
PRODID:-//ANAホリデイ・イン札幌すすきの - ECPv4.2.3//NONSGML v1.0//EN
CALSCALE:GREGORIAN
METHOD:PUBLISH
X-WR-CALNAME:ANAホリデイ・イン札幌すすきの
X-ORIGINAL-URL:https://www.anahisapporosusukino.com
X-WR-CALDESC:Events for ANAホリデイ・イン札幌すすきの
BEGIN:VEVENT
DTSTART;TZID=Asia/Tokyo:20260209T080000
DTEND;TZID=Asia/Tokyo:20260209T170000
DTSTAMP:20260424T003201
CREATED:20260125T043904
LAST-MODIFIED:20260125T043904
UID:9197-1770624000-1770656400@www.anahisapporosusukino.com
SUMMARY:特製ダレの油淋鶏
DESCRIPTION:
URL:https://www.anahisapporosusukino.com/event/%e7%89%b9%e8%a3%bd%e3%83%80%e3%83%ac%e3%81%ae%e6%b2%b9%e6%b7%8b%e9%b6%8f-18/
CATEGORIES:シニアDay
ATTACH;FMTTYPE=image/jpeg:https://anahisapporosusukino.com/images/2022/05/特製ダレ油淋鶏.jpg
END:VEVENT
END:VCALENDAR