BEGIN:VCALENDAR
VERSION:2.0
PRODID:-//ANAホリデイ・イン札幌すすきの - ECPv4.2.3//NONSGML v1.0//EN
CALSCALE:GREGORIAN
METHOD:PUBLISH
X-WR-CALNAME:ANAホリデイ・イン札幌すすきの
X-ORIGINAL-URL:https://www.anahisapporosusukino.com
X-WR-CALDESC:Events for ANAホリデイ・イン札幌すすきの
BEGIN:VEVENT
DTSTART;TZID=Asia/Tokyo:20250708T080000
DTEND;TZID=Asia/Tokyo:20250708T170000
DTSTAMP:20260422T200630
CREATED:20250705T025504
LAST-MODIFIED:20250705T025504
UID:8800-1751961600-1751994000@www.anahisapporosusukino.com
SUMMARY:牛肉のサイコロステーキ
DESCRIPTION:
URL:https://www.anahisapporosusukino.com/event/%e7%89%9b%e8%82%89%e3%81%ae%e3%82%b5%e3%82%a4%e3%82%b3%e3%83%ad%e3%82%b9%e3%83%86%e3%83%bc%e3%82%ad-3/
END:VEVENT
END:VCALENDAR