BEGIN:VCALENDAR
VERSION:2.0
PRODID:-//ANAホリデイ・イン札幌すすきの - ECPv4.2.3//NONSGML v1.0//EN
CALSCALE:GREGORIAN
METHOD:PUBLISH
X-WR-CALNAME:ANAホリデイ・イン札幌すすきの
X-ORIGINAL-URL:https://www.anahisapporosusukino.com
X-WR-CALDESC:Events for ANAホリデイ・イン札幌すすきの
BEGIN:VEVENT
DTSTART;TZID=Asia/Tokyo:20240326T080000
DTEND;TZID=Asia/Tokyo:20240326T170000
DTSTAMP:20260425T140057
CREATED:20240220T233549
LAST-MODIFIED:20240220T233549
UID:7975-1711440000-1711472400@www.anahisapporosusukino.com
SUMMARY:海鮮あんかけ焼きそば
DESCRIPTION:
URL:https://www.anahisapporosusukino.com/event/%e6%b5%b7%e9%ae%ae%e3%81%82%e3%82%93%e3%81%8b%e3%81%91%e7%84%bc%e3%81%8d%e3%81%9d%e3%81%b0-20/
CATEGORIES:シニアDay
ATTACH;FMTTYPE=image/jpeg:https://anahisapporosusukino.com/images/2022/01/海鮮あんかけ焼きそば.jpg
END:VEVENT
END:VCALENDAR