BEGIN:VCALENDAR
VERSION:2.0
PRODID:-//ANAホリデイ・イン札幌すすきの - ECPv4.2.3//NONSGML v1.0//EN
CALSCALE:GREGORIAN
METHOD:PUBLISH
X-WR-CALNAME:ANAホリデイ・イン札幌すすきの
X-ORIGINAL-URL:https://www.anahisapporosusukino.com
X-WR-CALDESC:Events for ANAホリデイ・イン札幌すすきの
BEGIN:VEVENT
DTSTART;TZID=Asia/Tokyo:20240323T080000
DTEND;TZID=Asia/Tokyo:20240323T170000
DTSTAMP:20260425T174755
CREATED:20240220T232958
LAST-MODIFIED:20240220T232958
UID:7972-1711180800-1711213200@www.anahisapporosusukino.com
SUMMARY:本格!!四川の麻婆丼
DESCRIPTION:
URL:https://www.anahisapporosusukino.com/event/%e6%9c%ac%e6%a0%bc%e5%9b%9b%e5%b7%9d%e3%81%ae%e9%ba%bb%e5%a9%86%e4%b8%bc/
END:VEVENT
END:VCALENDAR