BEGIN:VCALENDAR
VERSION:2.0
PRODID:-//ANAホリデイ・イン札幌すすきの - ECPv4.2.3//NONSGML v1.0//EN
CALSCALE:GREGORIAN
METHOD:PUBLISH
X-WR-CALNAME:ANAホリデイ・イン札幌すすきの
X-ORIGINAL-URL:https://www.anahisapporosusukino.com
X-WR-CALDESC:Events for ANAホリデイ・イン札幌すすきの
BEGIN:VEVENT
DTSTART;TZID=Asia/Tokyo:20250624T080000
DTEND;TZID=Asia/Tokyo:20250624T170000
DTSTAMP:20260423T204636
CREATED:20250530T001827
LAST-MODIFIED:20250530T001827
UID:8777-1750752000-1750784400@www.anahisapporosusukino.com
SUMMARY:大海老の塩焼き季節の野菜添え
DESCRIPTION:
URL:https://www.anahisapporosusukino.com/event/%e5%a4%a7%e6%b5%b7%e8%80%81%e3%81%ae%e5%a1%a9%e7%84%bc%e3%81%8d%e5%ad%a3%e7%af%80%e3%81%ae%e9%87%8e%e8%8f%9c%e6%b7%bb%e3%81%88/
END:VEVENT
END:VCALENDAR