BEGIN:VCALENDAR
VERSION:2.0
PRODID:-//ANAホリデイ・イン札幌すすきの - ECPv4.2.3//NONSGML v1.0//EN
CALSCALE:GREGORIAN
METHOD:PUBLISH
X-WR-CALNAME:ANAホリデイ・イン札幌すすきの
X-ORIGINAL-URL:https://www.anahisapporosusukino.com
X-WR-CALDESC:Events for ANAホリデイ・イン札幌すすきの
BEGIN:VEVENT
DTSTART;TZID=Asia/Tokyo:20260205T080000
DTEND;TZID=Asia/Tokyo:20260205T170000
DTSTAMP:20260423T180620
CREATED:20260123T083710
LAST-MODIFIED:20260201T083409
UID:9182-1770278400-1770310800@www.anahisapporosusukino.com
SUMMARY:大海老とさつまいもの天ぷら
DESCRIPTION:
URL:https://www.anahisapporosusukino.com/event/%e5%a4%a7%e6%b5%b7%e8%80%81%e3%81%a8%e3%81%95%e3%81%a4%e3%81%be%e3%81%84%e3%82%82%e3%81%ae%e5%a4%a9%e3%81%b7%e3%82%89/
CATEGORIES:ポイント2倍,新メニュー
END:VEVENT
END:VCALENDAR