BEGIN:VCALENDAR
VERSION:2.0
PRODID:-//ANAホリデイ・イン札幌すすきの - ECPv4.2.3//NONSGML v1.0//EN
CALSCALE:GREGORIAN
METHOD:PUBLISH
X-WR-CALNAME:ANAホリデイ・イン札幌すすきの
X-ORIGINAL-URL:https://www.anahisapporosusukino.com
X-WR-CALDESC:Events for ANAホリデイ・イン札幌すすきの
BEGIN:VEVENT
DTSTART;TZID=Asia/Tokyo:20241211T080000
DTEND;TZID=Asia/Tokyo:20241211T170000
DTSTAMP:20260425T110308
CREATED:20241123T042146
LAST-MODIFIED:20241123T042146
UID:8450-1733904000-1733936400@www.anahisapporosusukino.com
SUMMARY:大エビと道産帆立のステーキ バター正油
DESCRIPTION:
URL:https://www.anahisapporosusukino.com/event/%e5%a4%a7%e3%82%a8%e3%83%93%e3%81%a8%e9%81%93%e7%94%a3%e5%b8%86%e7%ab%8b%e3%81%ae%e3%82%b9%e3%83%86%e3%83%bc%e3%82%ad-%e3%83%90%e3%82%bf%e3%83%bc%e6%ad%a3%e6%b2%b9-5/
CATEGORIES:ポイント2倍
ATTACH;FMTTYPE=image/jpeg:https://anahisapporosusukino.com/images/2024/05/大エビと帆立のステーキ.jpg
END:VEVENT
END:VCALENDAR