BEGIN:VCALENDAR
VERSION:2.0
PRODID:-//ANAホリデイ・イン札幌すすきの - ECPv4.2.3//NONSGML v1.0//EN
CALSCALE:GREGORIAN
METHOD:PUBLISH
X-WR-CALNAME:ANAホリデイ・イン札幌すすきの
X-ORIGINAL-URL:https://www.anahisapporosusukino.com
X-WR-CALDESC:Events for ANAホリデイ・イン札幌すすきの
BEGIN:VEVENT
DTSTART;TZID=Asia/Tokyo:20250702T080000
DTEND;TZID=Asia/Tokyo:20250702T170000
DTSTAMP:20260423T065337
CREATED:20250705T024557
LAST-MODIFIED:20250705T024557
UID:8794-1751443200-1751475600@www.anahisapporosusukino.com
SUMMARY:厚切りカツレツおろしポン酢
DESCRIPTION:
URL:https://www.anahisapporosusukino.com/event/%e5%8e%9a%e5%88%87%e3%82%8a%e3%82%ab%e3%83%84%e3%83%ac%e3%83%84%e3%81%8a%e3%82%8d%e3%81%97%e3%83%9d%e3%83%b3%e9%85%a2-9/
END:VEVENT
END:VCALENDAR