BEGIN:VCALENDAR
VERSION:2.0
PRODID:-//ANAホリデイ・イン札幌すすきの - ECPv4.2.3//NONSGML v1.0//EN
CALSCALE:GREGORIAN
METHOD:PUBLISH
X-WR-CALNAME:ANAホリデイ・イン札幌すすきの
X-ORIGINAL-URL:https://www.anahisapporosusukino.com
X-WR-CALDESC:Events for ANAホリデイ・イン札幌すすきの
BEGIN:VEVENT
DTSTART;TZID=Asia/Tokyo:20260210T080000
DTEND;TZID=Asia/Tokyo:20260210T170000
DTSTAMP:20260424T015145
CREATED:20260123T093508
LAST-MODIFIED:20260123T093508
UID:9183-1770710400-1770742800@www.anahisapporosusukino.com
SUMMARY:メヌキのポワレ甘エビの唐揚げ添え
DESCRIPTION:
URL:https://www.anahisapporosusukino.com/event/%e3%83%a1%e3%83%8c%e3%82%ad%e3%81%ae%e3%83%9d%e3%83%af%e3%83%ac%e7%94%98%e3%82%a8%e3%83%93%e3%81%ae%e5%94%90%e6%8f%9a%e3%81%92%e6%b7%bb%e3%81%88/
CATEGORIES:ポイント2倍,新メニュー
END:VEVENT
END:VCALENDAR