BEGIN:VCALENDAR
VERSION:2.0
PRODID:-//ANAホリデイ・イン札幌すすきの - ECPv4.2.3//NONSGML v1.0//EN
CALSCALE:GREGORIAN
METHOD:PUBLISH
X-WR-CALNAME:ANAホリデイ・イン札幌すすきの
X-ORIGINAL-URL:https://www.anahisapporosusukino.com
X-WR-CALDESC:Events for ANAホリデイ・イン札幌すすきの
BEGIN:VEVENT
DTSTART;TZID=Asia/Tokyo:20260201T080000
DTEND;TZID=Asia/Tokyo:20260201T170000
DTSTAMP:20260423T111851
CREATED:20260123T083423
LAST-MODIFIED:20260123T083423
UID:9180-1769932800-1769965200@www.anahisapporosusukino.com
SUMMARY:エビの衣揚げスクランブルエッグ添えチリソース
DESCRIPTION:
URL:https://www.anahisapporosusukino.com/event/%e3%82%a8%e3%83%93%e3%81%ae%e8%a1%a3%e6%8f%9a%e3%81%92%e3%82%b9%e3%82%af%e3%83%a9%e3%83%b3%e3%83%96%e3%83%ab%e3%82%a8%e3%83%83%e3%82%b0%e6%b7%bb%e3%81%88%e3%83%81%e3%83%aa%e3%82%bd%e3%83%bc%e3%82%b9/
CATEGORIES:新メニュー
END:VEVENT
END:VCALENDAR